BEGIN:VCALENDAR
PRODID:-//AT Content Types//AT Event//EN
VERSION:2.0
METHOD:PUBLISH
BEGIN:VEVENT
DTSTAMP:20260424T012641Z
CREATED:20170706T093055Z
UID:ATEvent-9f87a6e7d54f53f67a6d2b3a0f668fb4
LAST-MODIFIED:20170707T085653Z
SUMMARY:Workshop im Rahmen des DFG-Schwerpunktprogrammes "Probabilistic Structures in Evolution"
DTSTART:20171004T060000Z
DTEND:20171006T160000Z
LOCATION:Otto-Krayer-Haus\, Universität Freiburg
CATEGORIES:Workshop
URL:http://www.dfg-spp1590.de/nuhag-php/OUT/event/make.php?event=colloquiumfreiburg
CLASS:PUBLIC
END:VEVENT
END:VCALENDAR
